BEGIN:VCALENDAR
VERSION:2.0
PRODID:-//Tennessee Dental Hygienists&#039; Association - ECPv6.15.15//NONSGML v1.0//EN
CALSCALE:GREGORIAN
METHOD:PUBLISH
X-WR-CALNAME:Tennessee Dental Hygienists&#039; Association
X-ORIGINAL-URL:https://tndha.com
X-WR-CALDESC:Events for Tennessee Dental Hygienists&#039; Association
REFRESH-INTERVAL;VALUE=DURATION:PT1H
X-Robots-Tag:noindex
X-PUBLISHED-TTL:PT1H
BEGIN:VTIMEZONE
TZID:America/New_York
BEGIN:DAYLIGHT
TZOFFSETFROM:-0500
TZOFFSETTO:-0400
TZNAME:EDT
DTSTART:20220313T070000
END:DAYLIGHT
BEGIN:STANDARD
TZOFFSETFROM:-0400
TZOFFSETTO:-0500
TZNAME:EST
DTSTART:20221106T060000
END:STANDARD
BEGIN:DAYLIGHT
TZOFFSETFROM:-0500
TZOFFSETTO:-0400
TZNAME:EDT
DTSTART:20230312T070000
END:DAYLIGHT
BEGIN:STANDARD
TZOFFSETFROM:-0400
TZOFFSETTO:-0500
TZNAME:EST
DTSTART:20231105T060000
END:STANDARD
BEGIN:DAYLIGHT
TZOFFSETFROM:-0500
TZOFFSETTO:-0400
TZNAME:EDT
DTSTART:20240310T070000
END:DAYLIGHT
BEGIN:STANDARD
TZOFFSETFROM:-0400
TZOFFSETTO:-0500
TZNAME:EST
DTSTART:20241103T060000
END:STANDARD
BEGIN:DAYLIGHT
TZOFFSETFROM:-0500
TZOFFSETTO:-0400
TZNAME:EDT
DTSTART:20250309T070000
END:DAYLIGHT
BEGIN:STANDARD
TZOFFSETFROM:-0400
TZOFFSETTO:-0500
TZNAME:EST
DTSTART:20251102T060000
END:STANDARD
BEGIN:DAYLIGHT
TZOFFSETFROM:-0500
TZOFFSETTO:-0400
TZNAME:EDT
DTSTART:20260308T070000
END:DAYLIGHT
BEGIN:STANDARD
TZOFFSETFROM:-0400
TZOFFSETTO:-0500
TZNAME:EST
DTSTART:20261101T060000
END:STANDARD
END:VTIMEZONE
BEGIN:VEVENT
DTSTART;TZID=America/New_York:20251107T080000
DTEND;TZID=America/New_York:20251107T150000
DTSTAMP:20260425T094312
CREATED:20250905T020001Z
LAST-MODIFIED:20250905T022530Z
UID:10000013-1762502400-1762527600@tndha.com
SUMMARY:Fall CE Event
DESCRIPTION:KNOX AREA\nSPRING SYMPOSIUM \nFeaturing Ben Johnson\, DDS\, FACS 				\n				\n					\n				\n		\n					\n				\n				\n									4 CEU CREDITSFRIDAY\, MARCH 20\, 2026Knox County Association of Baptist Center ***********************************“COMMON ORAL PATHOLOGY”“HOW TO TALK TO PATIENTS ABOUT IMPLANTS”&“ODONTOGENIC INFECTIONS” ******************************************Knox Area Registration InformationCE Date: Friday\, March 20\, 2026Location: Knox Area Association of Baptist Center7709 Westland Dr. Knoxville\, TN 37919****************************************REGISTRATION DEADLINE MARCH 15\, 2026LIMITED ATTENDANCE 								\n				\n					\n				\n		\n					\n				\n				\n									**************************************************PROGRAM CONTENT COMMON ORAL PATHOLOGY 1. Review and describe common head and neck pathology.2. How to talk about white/red lesions and navigate the cancer questions at your level.3. Discuss some fewer common findings you may encounter in the dental office. HOW DO WE TALK TO PATIENTS ABOUT IMPLANTS? 1. Discuss and review the benefits of dental implants for single and multiple missing teeth.2. Understand options for edentulous sites.3. Options for edentulism: Dentures\, overdentures\, and screwed-in full arch zirconia. ODONTOGENIC INFECTION 1. How to identify the urgency of potential localized infections in the oral cavity and face.2. Importance of removing 3rd molars and pathology associated with them.3. Understand what happens when things go south with head and neck infections\, beyond the dental chair. 4 HOURS CEU   ABOUT OUR SPEAKER AEGD Instructor- 4 years – United States Airforce (9 Years Service)Full-time Dental School Oral Surgery Faculty-Midwestern University Dental Institute.Program Director-Oral and Maxillofacial surgery-Banner University Medical Center.Private Practice in Louisiana\, Texas\, Arizona\, Tennessee.Fellow of the American College of Surgeons.Board Certified in Oral and Maxillofacial Surgery and Dental Anesthesiology.								\n				\n				\n				\n							\n			\n						\n		\n						\n				\n					\n				\n		\n					\n				\n				\n					        \n\n            \n            	    \n                \n\n                                                                \n                    Download Registration Form
URL:https://tndha.com/event/fall-ce-event/
LOCATION:South College – Nashville\, 616 Marriott Dr\, Room 502\, Nashville\, TN\, 37214\, United States
END:VEVENT
BEGIN:VEVENT
DTSTART;TZID=America/New_York:20251031T090000
DTEND;TZID=America/New_York:20251031T113000
DTSTAMP:20260425T094313
CREATED:20251008T020141Z
LAST-MODIFIED:20251008T020751Z
UID:10000014-1761901200-1761910200@tndha.com
SUMMARY:Upper Cumberland Meet & Greet
DESCRIPTION:KNOX AREA\nSPRING SYMPOSIUM \nFeaturing Ben Johnson\, DDS\, FACS 				\n				\n					\n				\n		\n					\n				\n				\n									4 CEU CREDITSFRIDAY\, MARCH 20\, 2026Knox County Association of Baptist Center ***********************************“COMMON ORAL PATHOLOGY”“HOW TO TALK TO PATIENTS ABOUT IMPLANTS”&“ODONTOGENIC INFECTIONS” ******************************************Knox Area Registration InformationCE Date: Friday\, March 20\, 2026Location: Knox Area Association of Baptist Center7709 Westland Dr. Knoxville\, TN 37919****************************************REGISTRATION DEADLINE MARCH 15\, 2026LIMITED ATTENDANCE 								\n				\n					\n				\n		\n					\n				\n				\n									**************************************************PROGRAM CONTENT COMMON ORAL PATHOLOGY 1. Review and describe common head and neck pathology.2. How to talk about white/red lesions and navigate the cancer questions at your level.3. Discuss some fewer common findings you may encounter in the dental office. HOW DO WE TALK TO PATIENTS ABOUT IMPLANTS? 1. Discuss and review the benefits of dental implants for single and multiple missing teeth.2. Understand options for edentulous sites.3. Options for edentulism: Dentures\, overdentures\, and screwed-in full arch zirconia. ODONTOGENIC INFECTION 1. How to identify the urgency of potential localized infections in the oral cavity and face.2. Importance of removing 3rd molars and pathology associated with them.3. Understand what happens when things go south with head and neck infections\, beyond the dental chair. 4 HOURS CEU   ABOUT OUR SPEAKER AEGD Instructor- 4 years – United States Airforce (9 Years Service)Full-time Dental School Oral Surgery Faculty-Midwestern University Dental Institute.Program Director-Oral and Maxillofacial surgery-Banner University Medical Center.Private Practice in Louisiana\, Texas\, Arizona\, Tennessee.Fellow of the American College of Surgeons.Board Certified in Oral and Maxillofacial Surgery and Dental Anesthesiology.								\n				\n				\n				\n							\n			\n						\n		\n						\n				\n					\n				\n		\n					\n				\n				\n					        \n\n            \n            	    \n                \n\n                                                                \n                    Download Registration Form
URL:https://tndha.com/event/upper-cumberland-meet-greet/
LOCATION:Crossville Smiles\, 3123 Miller Ave.\, Crossville\, TN\, 38555\, United States
END:VEVENT
BEGIN:VEVENT
DTSTART;TZID=America/New_York:20250912T074500
DTEND;TZID=America/New_York:20250912T160000
DTSTAMP:20260425T094313
CREATED:20250827T170024Z
LAST-MODIFIED:20250827T173601Z
UID:10000012-1757663100-1757692800@tndha.com
SUMMARY:Knox Area Fall Symposium
DESCRIPTION:KNOX AREA\nSPRING SYMPOSIUM \nFeaturing Ben Johnson\, DDS\, FACS 				\n				\n					\n				\n		\n					\n				\n				\n									4 CEU CREDITSFRIDAY\, MARCH 20\, 2026Knox County Association of Baptist Center ***********************************“COMMON ORAL PATHOLOGY”“HOW TO TALK TO PATIENTS ABOUT IMPLANTS”&“ODONTOGENIC INFECTIONS” ******************************************Knox Area Registration InformationCE Date: Friday\, March 20\, 2026Location: Knox Area Association of Baptist Center7709 Westland Dr. Knoxville\, TN 37919****************************************REGISTRATION DEADLINE MARCH 15\, 2026LIMITED ATTENDANCE 								\n				\n					\n				\n		\n					\n				\n				\n									**************************************************PROGRAM CONTENT COMMON ORAL PATHOLOGY 1. Review and describe common head and neck pathology.2. How to talk about white/red lesions and navigate the cancer questions at your level.3. Discuss some fewer common findings you may encounter in the dental office. HOW DO WE TALK TO PATIENTS ABOUT IMPLANTS? 1. Discuss and review the benefits of dental implants for single and multiple missing teeth.2. Understand options for edentulous sites.3. Options for edentulism: Dentures\, overdentures\, and screwed-in full arch zirconia. ODONTOGENIC INFECTION 1. How to identify the urgency of potential localized infections in the oral cavity and face.2. Importance of removing 3rd molars and pathology associated with them.3. Understand what happens when things go south with head and neck infections\, beyond the dental chair. 4 HOURS CEU   ABOUT OUR SPEAKER AEGD Instructor- 4 years – United States Airforce (9 Years Service)Full-time Dental School Oral Surgery Faculty-Midwestern University Dental Institute.Program Director-Oral and Maxillofacial surgery-Banner University Medical Center.Private Practice in Louisiana\, Texas\, Arizona\, Tennessee.Fellow of the American College of Surgeons.Board Certified in Oral and Maxillofacial Surgery and Dental Anesthesiology.								\n				\n				\n				\n							\n			\n						\n		\n						\n				\n					\n				\n		\n					\n				\n				\n					        \n\n            \n            	    \n                \n\n                                                                \n                    Download Registration Form
URL:https://tndha.com/event/knox-area-fall-symposium/
LOCATION:Knox County Association of Baptists Center
END:VEVENT
BEGIN:VEVENT
DTSTART;TZID=America/New_York:20250328T074500
DTEND;TZID=America/New_York:20250328T160000
DTSTAMP:20260425T094313
CREATED:20250220T215306Z
LAST-MODIFIED:20250220T221524Z
UID:10000011-1743147900-1743177600@tndha.com
SUMMARY:KNOX AREA SYMPOSIUM
DESCRIPTION:KNOX AREA\nSPRING SYMPOSIUM \nFeaturing Ben Johnson\, DDS\, FACS 				\n				\n					\n				\n		\n					\n				\n				\n									4 CEU CREDITSFRIDAY\, MARCH 20\, 2026Knox County Association of Baptist Center ***********************************“COMMON ORAL PATHOLOGY”“HOW TO TALK TO PATIENTS ABOUT IMPLANTS”&“ODONTOGENIC INFECTIONS” ******************************************Knox Area Registration InformationCE Date: Friday\, March 20\, 2026Location: Knox Area Association of Baptist Center7709 Westland Dr. Knoxville\, TN 37919****************************************REGISTRATION DEADLINE MARCH 15\, 2026LIMITED ATTENDANCE 								\n				\n					\n				\n		\n					\n				\n				\n									**************************************************PROGRAM CONTENT COMMON ORAL PATHOLOGY 1. Review and describe common head and neck pathology.2. How to talk about white/red lesions and navigate the cancer questions at your level.3. Discuss some fewer common findings you may encounter in the dental office. HOW DO WE TALK TO PATIENTS ABOUT IMPLANTS? 1. Discuss and review the benefits of dental implants for single and multiple missing teeth.2. Understand options for edentulous sites.3. Options for edentulism: Dentures\, overdentures\, and screwed-in full arch zirconia. ODONTOGENIC INFECTION 1. How to identify the urgency of potential localized infections in the oral cavity and face.2. Importance of removing 3rd molars and pathology associated with them.3. Understand what happens when things go south with head and neck infections\, beyond the dental chair. 4 HOURS CEU   ABOUT OUR SPEAKER AEGD Instructor- 4 years – United States Airforce (9 Years Service)Full-time Dental School Oral Surgery Faculty-Midwestern University Dental Institute.Program Director-Oral and Maxillofacial surgery-Banner University Medical Center.Private Practice in Louisiana\, Texas\, Arizona\, Tennessee.Fellow of the American College of Surgeons.Board Certified in Oral and Maxillofacial Surgery and Dental Anesthesiology.								\n				\n				\n				\n							\n			\n						\n		\n						\n				\n					\n				\n		\n					\n				\n				\n					        \n\n            \n            	    \n                \n\n                                                                \n                    Download Registration Form
URL:https://tndha.com/event/knox-area-symposium/
LOCATION:Knox County Association of Baptists Center
END:VEVENT
BEGIN:VEVENT
DTSTART;TZID=America/New_York:20250322T073000
DTEND;TZID=America/New_York:20250323T140000
DTSTAMP:20260425T094313
CREATED:20240808T171425Z
LAST-MODIFIED:20250118T044350Z
UID:10000007-1742628600-1742738400@tndha.com
SUMMARY:Calling all Volunteers!
DESCRIPTION:KNOX AREA\nSPRING SYMPOSIUM \nFeaturing Ben Johnson\, DDS\, FACS 				\n				\n					\n				\n		\n					\n				\n				\n									4 CEU CREDITSFRIDAY\, MARCH 20\, 2026Knox County Association of Baptist Center ***********************************“COMMON ORAL PATHOLOGY”“HOW TO TALK TO PATIENTS ABOUT IMPLANTS”&“ODONTOGENIC INFECTIONS” ******************************************Knox Area Registration InformationCE Date: Friday\, March 20\, 2026Location: Knox Area Association of Baptist Center7709 Westland Dr. Knoxville\, TN 37919****************************************REGISTRATION DEADLINE MARCH 15\, 2026LIMITED ATTENDANCE 								\n				\n					\n				\n		\n					\n				\n				\n									**************************************************PROGRAM CONTENT COMMON ORAL PATHOLOGY 1. Review and describe common head and neck pathology.2. How to talk about white/red lesions and navigate the cancer questions at your level.3. Discuss some fewer common findings you may encounter in the dental office. HOW DO WE TALK TO PATIENTS ABOUT IMPLANTS? 1. Discuss and review the benefits of dental implants for single and multiple missing teeth.2. Understand options for edentulous sites.3. Options for edentulism: Dentures\, overdentures\, and screwed-in full arch zirconia. ODONTOGENIC INFECTION 1. How to identify the urgency of potential localized infections in the oral cavity and face.2. Importance of removing 3rd molars and pathology associated with them.3. Understand what happens when things go south with head and neck infections\, beyond the dental chair. 4 HOURS CEU   ABOUT OUR SPEAKER AEGD Instructor- 4 years – United States Airforce (9 Years Service)Full-time Dental School Oral Surgery Faculty-Midwestern University Dental Institute.Program Director-Oral and Maxillofacial surgery-Banner University Medical Center.Private Practice in Louisiana\, Texas\, Arizona\, Tennessee.Fellow of the American College of Surgeons.Board Certified in Oral and Maxillofacial Surgery and Dental Anesthesiology.								\n				\n				\n				\n							\n			\n						\n		\n						\n				\n					\n				\n		\n					\n				\n				\n					        \n\n            \n            	    \n                \n\n                                                                \n                    Download Registration Form
URL:https://tndha.com/event/calling-all-volunteers/
LOCATION:Cookeville High School\, 2335 N. Washington Ave\, Cookeville\, 38501\, United States
ATTACH;FMTTYPE=image/png:https://tndha.com/wp-content/uploads/2024/08/RAM-logo-2048x1325-1.png
END:VEVENT
BEGIN:VEVENT
DTSTART;TZID=America/New_York:20241101T073000
DTEND;TZID=America/New_York:20241101T133000
DTSTAMP:20260425T094313
CREATED:20241010T014542Z
LAST-MODIFIED:20241011T230556Z
UID:10000008-1730446200-1730467800@tndha.com
SUMMARY:TNDHA Fall CE Event
DESCRIPTION:KNOX AREA\nSPRING SYMPOSIUM \nFeaturing Ben Johnson\, DDS\, FACS 				\n				\n					\n				\n		\n					\n				\n				\n									4 CEU CREDITSFRIDAY\, MARCH 20\, 2026Knox County Association of Baptist Center ***********************************“COMMON ORAL PATHOLOGY”“HOW TO TALK TO PATIENTS ABOUT IMPLANTS”&“ODONTOGENIC INFECTIONS” ******************************************Knox Area Registration InformationCE Date: Friday\, March 20\, 2026Location: Knox Area Association of Baptist Center7709 Westland Dr. Knoxville\, TN 37919****************************************REGISTRATION DEADLINE MARCH 15\, 2026LIMITED ATTENDANCE 								\n				\n					\n				\n		\n					\n				\n				\n									**************************************************PROGRAM CONTENT COMMON ORAL PATHOLOGY 1. Review and describe common head and neck pathology.2. How to talk about white/red lesions and navigate the cancer questions at your level.3. Discuss some fewer common findings you may encounter in the dental office. HOW DO WE TALK TO PATIENTS ABOUT IMPLANTS? 1. Discuss and review the benefits of dental implants for single and multiple missing teeth.2. Understand options for edentulous sites.3. Options for edentulism: Dentures\, overdentures\, and screwed-in full arch zirconia. ODONTOGENIC INFECTION 1. How to identify the urgency of potential localized infections in the oral cavity and face.2. Importance of removing 3rd molars and pathology associated with them.3. Understand what happens when things go south with head and neck infections\, beyond the dental chair. 4 HOURS CEU   ABOUT OUR SPEAKER AEGD Instructor- 4 years – United States Airforce (9 Years Service)Full-time Dental School Oral Surgery Faculty-Midwestern University Dental Institute.Program Director-Oral and Maxillofacial surgery-Banner University Medical Center.Private Practice in Louisiana\, Texas\, Arizona\, Tennessee.Fellow of the American College of Surgeons.Board Certified in Oral and Maxillofacial Surgery and Dental Anesthesiology.								\n				\n				\n				\n							\n			\n						\n		\n						\n				\n					\n				\n		\n					\n				\n				\n					        \n\n            \n            	    \n                \n\n                                                                \n                    Download Registration Form
URL:https://tndha.com/event/tndha-fall-ce-event/
LOCATION:Cumberland Mountain State Park\, 24 Office Drive\, Crossville\, TN\, 38555\, United States
END:VEVENT
BEGIN:VEVENT
DTSTART;TZID=America/New_York:20240409T180000
DTEND;TZID=America/New_York:20240409T200000
DTSTAMP:20260425T094313
CREATED:20240306T152103Z
LAST-MODIFIED:20240306T152103Z
UID:10000006-1712685600-1712692800@tndha.com
SUMMARY:KADHA:  TMJ: RELIEF FOR THE MUSCLES OF MASTICATION
DESCRIPTION:KNOX AREA\nSPRING SYMPOSIUM \nFeaturing Ben Johnson\, DDS\, FACS 				\n				\n					\n				\n		\n					\n				\n				\n									4 CEU CREDITSFRIDAY\, MARCH 20\, 2026Knox County Association of Baptist Center ***********************************“COMMON ORAL PATHOLOGY”“HOW TO TALK TO PATIENTS ABOUT IMPLANTS”&“ODONTOGENIC INFECTIONS” ******************************************Knox Area Registration InformationCE Date: Friday\, March 20\, 2026Location: Knox Area Association of Baptist Center7709 Westland Dr. Knoxville\, TN 37919****************************************REGISTRATION DEADLINE MARCH 15\, 2026LIMITED ATTENDANCE 								\n				\n					\n				\n		\n					\n				\n				\n									**************************************************PROGRAM CONTENT COMMON ORAL PATHOLOGY 1. Review and describe common head and neck pathology.2. How to talk about white/red lesions and navigate the cancer questions at your level.3. Discuss some fewer common findings you may encounter in the dental office. HOW DO WE TALK TO PATIENTS ABOUT IMPLANTS? 1. Discuss and review the benefits of dental implants for single and multiple missing teeth.2. Understand options for edentulous sites.3. Options for edentulism: Dentures\, overdentures\, and screwed-in full arch zirconia. ODONTOGENIC INFECTION 1. How to identify the urgency of potential localized infections in the oral cavity and face.2. Importance of removing 3rd molars and pathology associated with them.3. Understand what happens when things go south with head and neck infections\, beyond the dental chair. 4 HOURS CEU   ABOUT OUR SPEAKER AEGD Instructor- 4 years – United States Airforce (9 Years Service)Full-time Dental School Oral Surgery Faculty-Midwestern University Dental Institute.Program Director-Oral and Maxillofacial surgery-Banner University Medical Center.Private Practice in Louisiana\, Texas\, Arizona\, Tennessee.Fellow of the American College of Surgeons.Board Certified in Oral and Maxillofacial Surgery and Dental Anesthesiology.								\n				\n				\n				\n							\n			\n						\n		\n						\n				\n					\n				\n		\n					\n				\n				\n					        \n\n            \n            	    \n                \n\n                                                                \n                    Download Registration Form
URL:https://tndha.com/event/kadha-tmj-relief-for-the-muscles-of-mastication/
LOCATION:Knox County Association of Baptists Center
END:VEVENT
BEGIN:VEVENT
DTSTART;TZID=America/New_York:20240319T180000
DTEND;TZID=America/New_York:20240319T200000
DTSTAMP:20260425T094313
CREATED:20240306T151852Z
LAST-MODIFIED:20240306T151852Z
UID:10000005-1710871200-1710878400@tndha.com
SUMMARY:KADHA Meeting - Informative Poster Presentations
DESCRIPTION:KNOX AREA\nSPRING SYMPOSIUM \nFeaturing Ben Johnson\, DDS\, FACS 				\n				\n					\n				\n		\n					\n				\n				\n									4 CEU CREDITSFRIDAY\, MARCH 20\, 2026Knox County Association of Baptist Center ***********************************“COMMON ORAL PATHOLOGY”“HOW TO TALK TO PATIENTS ABOUT IMPLANTS”&“ODONTOGENIC INFECTIONS” ******************************************Knox Area Registration InformationCE Date: Friday\, March 20\, 2026Location: Knox Area Association of Baptist Center7709 Westland Dr. Knoxville\, TN 37919****************************************REGISTRATION DEADLINE MARCH 15\, 2026LIMITED ATTENDANCE 								\n				\n					\n				\n		\n					\n				\n				\n									**************************************************PROGRAM CONTENT COMMON ORAL PATHOLOGY 1. Review and describe common head and neck pathology.2. How to talk about white/red lesions and navigate the cancer questions at your level.3. Discuss some fewer common findings you may encounter in the dental office. HOW DO WE TALK TO PATIENTS ABOUT IMPLANTS? 1. Discuss and review the benefits of dental implants for single and multiple missing teeth.2. Understand options for edentulous sites.3. Options for edentulism: Dentures\, overdentures\, and screwed-in full arch zirconia. ODONTOGENIC INFECTION 1. How to identify the urgency of potential localized infections in the oral cavity and face.2. Importance of removing 3rd molars and pathology associated with them.3. Understand what happens when things go south with head and neck infections\, beyond the dental chair. 4 HOURS CEU   ABOUT OUR SPEAKER AEGD Instructor- 4 years – United States Airforce (9 Years Service)Full-time Dental School Oral Surgery Faculty-Midwestern University Dental Institute.Program Director-Oral and Maxillofacial surgery-Banner University Medical Center.Private Practice in Louisiana\, Texas\, Arizona\, Tennessee.Fellow of the American College of Surgeons.Board Certified in Oral and Maxillofacial Surgery and Dental Anesthesiology.								\n				\n				\n				\n							\n			\n						\n		\n						\n				\n					\n				\n		\n					\n				\n				\n					        \n\n            \n            	    \n                \n\n                                                                \n                    Download Registration Form
URL:https://tndha.com/event/kadha-meeting-informative-poster-presentations/
LOCATION:Knox County Association of Baptists Center
END:VEVENT
BEGIN:VEVENT
DTSTART;TZID=America/New_York:20240216T083000
DTEND;TZID=America/New_York:20240216T160000
DTSTAMP:20260425T094313
CREATED:20240103T141735Z
LAST-MODIFIED:20240103T141735Z
UID:10000003-1708072200-1708099200@tndha.com
SUMMARY:CE Event - FORENSICS ODONTOLOGY
DESCRIPTION:KNOX AREA\nSPRING SYMPOSIUM \nFeaturing Ben Johnson\, DDS\, FACS 				\n				\n					\n				\n		\n					\n				\n				\n									4 CEU CREDITSFRIDAY\, MARCH 20\, 2026Knox County Association of Baptist Center ***********************************“COMMON ORAL PATHOLOGY”“HOW TO TALK TO PATIENTS ABOUT IMPLANTS”&“ODONTOGENIC INFECTIONS” ******************************************Knox Area Registration InformationCE Date: Friday\, March 20\, 2026Location: Knox Area Association of Baptist Center7709 Westland Dr. Knoxville\, TN 37919****************************************REGISTRATION DEADLINE MARCH 15\, 2026LIMITED ATTENDANCE 								\n				\n					\n				\n		\n					\n				\n				\n									**************************************************PROGRAM CONTENT COMMON ORAL PATHOLOGY 1. Review and describe common head and neck pathology.2. How to talk about white/red lesions and navigate the cancer questions at your level.3. Discuss some fewer common findings you may encounter in the dental office. HOW DO WE TALK TO PATIENTS ABOUT IMPLANTS? 1. Discuss and review the benefits of dental implants for single and multiple missing teeth.2. Understand options for edentulous sites.3. Options for edentulism: Dentures\, overdentures\, and screwed-in full arch zirconia. ODONTOGENIC INFECTION 1. How to identify the urgency of potential localized infections in the oral cavity and face.2. Importance of removing 3rd molars and pathology associated with them.3. Understand what happens when things go south with head and neck infections\, beyond the dental chair. 4 HOURS CEU   ABOUT OUR SPEAKER AEGD Instructor- 4 years – United States Airforce (9 Years Service)Full-time Dental School Oral Surgery Faculty-Midwestern University Dental Institute.Program Director-Oral and Maxillofacial surgery-Banner University Medical Center.Private Practice in Louisiana\, Texas\, Arizona\, Tennessee.Fellow of the American College of Surgeons.Board Certified in Oral and Maxillofacial Surgery and Dental Anesthesiology.								\n				\n				\n				\n							\n			\n						\n		\n						\n				\n					\n				\n		\n					\n				\n				\n					        \n\n            \n            	    \n                \n\n                                                                \n                    Download Registration Form
URL:https://tndha.com/event/ce-event-forensics-odontology/
LOCATION:Wood Auditorium – UT Hospital\, 1924 Alcoa Hwy\, Knoxville\, TN\, 37920\, United States
END:VEVENT
BEGIN:VEVENT
DTSTART;TZID=America/New_York:20231103T080000
DTEND;TZID=America/New_York:20231103T150000
DTSTAMP:20260425T094313
CREATED:20230918T220402Z
LAST-MODIFIED:20231031T154213Z
UID:10000001-1698998400-1699023600@tndha.com
SUMMARY:TNDHA Fall CE
DESCRIPTION:KNOX AREA\nSPRING SYMPOSIUM \nFeaturing Ben Johnson\, DDS\, FACS 				\n				\n					\n				\n		\n					\n				\n				\n									4 CEU CREDITSFRIDAY\, MARCH 20\, 2026Knox County Association of Baptist Center ***********************************“COMMON ORAL PATHOLOGY”“HOW TO TALK TO PATIENTS ABOUT IMPLANTS”&“ODONTOGENIC INFECTIONS” ******************************************Knox Area Registration InformationCE Date: Friday\, March 20\, 2026Location: Knox Area Association of Baptist Center7709 Westland Dr. Knoxville\, TN 37919****************************************REGISTRATION DEADLINE MARCH 15\, 2026LIMITED ATTENDANCE 								\n				\n					\n				\n		\n					\n				\n				\n									**************************************************PROGRAM CONTENT COMMON ORAL PATHOLOGY 1. Review and describe common head and neck pathology.2. How to talk about white/red lesions and navigate the cancer questions at your level.3. Discuss some fewer common findings you may encounter in the dental office. HOW DO WE TALK TO PATIENTS ABOUT IMPLANTS? 1. Discuss and review the benefits of dental implants for single and multiple missing teeth.2. Understand options for edentulous sites.3. Options for edentulism: Dentures\, overdentures\, and screwed-in full arch zirconia. ODONTOGENIC INFECTION 1. How to identify the urgency of potential localized infections in the oral cavity and face.2. Importance of removing 3rd molars and pathology associated with them.3. Understand what happens when things go south with head and neck infections\, beyond the dental chair. 4 HOURS CEU   ABOUT OUR SPEAKER AEGD Instructor- 4 years – United States Airforce (9 Years Service)Full-time Dental School Oral Surgery Faculty-Midwestern University Dental Institute.Program Director-Oral and Maxillofacial surgery-Banner University Medical Center.Private Practice in Louisiana\, Texas\, Arizona\, Tennessee.Fellow of the American College of Surgeons.Board Certified in Oral and Maxillofacial Surgery and Dental Anesthesiology.								\n				\n				\n				\n							\n			\n						\n		\n						\n				\n					\n				\n		\n					\n				\n				\n					        \n\n            \n            	    \n                \n\n                                                                \n                    Download Registration Form
URL:https://tndha.com/event/tndha-fall-ce/
LOCATION:Wood Auditorium – UT Hospital\, 1924 Alcoa Hwy\, Knoxville\, TN\, 37920\, United States
END:VEVENT
END:VCALENDAR