BEGIN:VCALENDAR
VERSION:2.0
PRODID:-//Tennessee Dental Hygienists&#039; Association - ECPv6.15.15//NONSGML v1.0//EN
CALSCALE:GREGORIAN
METHOD:PUBLISH
X-WR-CALNAME:Tennessee Dental Hygienists&#039; Association
X-ORIGINAL-URL:https://tndha.com
X-WR-CALDESC:Events for Tennessee Dental Hygienists&#039; Association
REFRESH-INTERVAL;VALUE=DURATION:PT1H
X-Robots-Tag:noindex
X-PUBLISHED-TTL:PT1H
BEGIN:VTIMEZONE
TZID:America/New_York
BEGIN:DAYLIGHT
TZOFFSETFROM:-0500
TZOFFSETTO:-0400
TZNAME:EDT
DTSTART:20250309T070000
END:DAYLIGHT
BEGIN:STANDARD
TZOFFSETFROM:-0400
TZOFFSETTO:-0500
TZNAME:EST
DTSTART:20251102T060000
END:STANDARD
BEGIN:DAYLIGHT
TZOFFSETFROM:-0500
TZOFFSETTO:-0400
TZNAME:EDT
DTSTART:20260308T070000
END:DAYLIGHT
BEGIN:STANDARD
TZOFFSETFROM:-0400
TZOFFSETTO:-0500
TZNAME:EST
DTSTART:20261101T060000
END:STANDARD
BEGIN:DAYLIGHT
TZOFFSETFROM:-0500
TZOFFSETTO:-0400
TZNAME:EDT
DTSTART:20270314T070000
END:DAYLIGHT
BEGIN:STANDARD
TZOFFSETFROM:-0400
TZOFFSETTO:-0500
TZNAME:EST
DTSTART:20271107T060000
END:STANDARD
END:VTIMEZONE
BEGIN:VEVENT
DTSTART;VALUE=DATE:20260423
DTEND;VALUE=DATE:20260426
DTSTAMP:20260424T142329
CREATED:20260114T231922Z
LAST-MODIFIED:20260407T193450Z
UID:10000015-1776902400-1777161599@tndha.com
SUMMARY:2026 Annual Conference
DESCRIPTION:2026 Annual Conference – Chattanooga\, TN\nCultivating KnowledgeAdvancing Dental Hygiene\nThe Tennessee Dental Hygienists’ Association is excited to host our Annual Conference from April 23–25 in vibrant Chattanooga\, Tennessee. Held at the Downtown Marriott\, this three‑day gathering will bring together dental hygienists from across the state for inspiring speakers\, high‑quality continuing education\, and valuable opportunities to connect with colleagues and industry partners. We look forward to coming together as a professional community and continuing to advance the future of dental hygiene in Tennessee. \nComing in on Thursday?  Be sure to attend our President’s Reception Thursday evening.  Enjoy heavy hors d’oeuvres and cocktails.  Cash bar will be available for drinks beyond those included. \n					\n									Schedule of Events\n					\n					\n									Speakers\n					 \nAre you interested in sponsoring the conference or showing off you wares during the show?  Check out the available options. \n					\n									Annual Conference Sponsorship & Marketplace Info\n					 \nNeed a hotel room for the event?  Your ticket email will include a link for a discounted rate for Annual Conference.  Be sure to book early as there are limited rooms available.(You must use this link to receive the discounted rate) \n\n		\n		\n		\n		\n \n\n	Tickets\n		The numbers below include tickets for this event already in your cart. Clicking “Get Tickets” will allow you to edit any existing attendee information as well as change ticket quantities.\n				2026 Annual Conference – Weekend Pass (Member)\n	2026 Annual Conference\nWeekend Pass – Enjoy the entire Conference!\n					$\n					305.00\n						\n	Decrease ticket quantity for 2026 Annual Conference – Weekend Pass (Member)\n	–\n	\n		Quantity	\n	\n					\n	Increase ticket quantity for 2026 Annual Conference – Weekend Pass (Member)\n	+\n		\n				2026 Annual Conference – Weekend Pass (Potential Member)\n	2026 Annual Conference\nWeekend Pass – Enjoy the entire Conference!\n					$\n					331.00\n						\n	Decrease ticket quantity for 2026 Annual Conference – Weekend Pass (Potential Member)\n	–\n	\n		Quantity	\n	\n					\n	Increase ticket quantity for 2026 Annual Conference – Weekend Pass (Potential Member)\n	+\n		\n				2026 Annual Conference – Friday Only (Member)\n	2026 Annual Conference\nAttend just Friday – 7 CE\n					$\n					240.00\n						\n	Decrease ticket quantity for 2026 Annual Conference – Friday Only (Member)\n	–\n	\n		Quantity	\n	\n					\n	Increase ticket quantity for 2026 Annual Conference – Friday Only (Member)\n	+\n		\n				2026 Annual Conference – Friday Only (Potential Member)\n	2026 Annual Conference\nAttend just Friday – 7 CE\n					$\n					261.00\n						\n	Decrease ticket quantity for 2026 Annual Conference – Friday Only (Potential Member)\n	–\n	\n		Quantity	\n	\n					\n	Increase ticket quantity for 2026 Annual Conference – Friday Only (Potential Member)\n	+\n		\n				2026 Annual Conference – Saturday Only (Member)\n	2026 Annual Conference\nAttend just Saturday – 5 CE\n					$\n					210.00\n						\n	Decrease ticket quantity for 2026 Annual Conference – Saturday Only (Member)\n	–\n	\n		Quantity	\n	\n					\n	Increase ticket quantity for 2026 Annual Conference – Saturday Only (Member)\n	+\n		\n		On Sale\n				2026 Annual Conference – Saturday Only (Potential Member)\n	2026 Annual Conference\nAttend just Saturday – 5 CE\n					$\n					236.00\n					$\n					200.00\n						\n	Decrease ticket quantity for 2026 Annual Conference – Saturday Only (Potential Member)\n	–\n	\n		Quantity	\n	\n					\n	Increase ticket quantity for 2026 Annual Conference – Saturday Only (Potential Member)\n	+\n		\n				2026 Annual Conference – Student\n	2026 Annual Conference\nReserved for future members of TNDHA. Students currently enrolled or recently graduated (current year).\n					$\n					60.00\n						\n	Decrease ticket quantity for 2026 Annual Conference – Student\n	–\n	\n		Quantity	\n	\n					\n	Increase ticket quantity for 2026 Annual Conference – Student\n	+\n		\n				2026 Annual Conference – Delegate Only\n	2026 Annual Conference\nPass for those acting as a delegate for their respective component. CE is NOT included.\n					$\n					200.00\n						\n	Decrease ticket quantity for 2026 Annual Conference – Delegate Only\n	–\n	\n		Quantity	\n	\n					\n	Increase ticket quantity for 2026 Annual Conference – Delegate Only\n	+\n		\n				2026 Annual Conference – President's Reception\n	2026 Annual Conference\nCome mingle with your fellow dental professionals on Thursday evening. Heavy Hors d’oeuvre and drink tickets included.\n					$\n					60.00\n						\n	Decrease ticket quantity for 2026 Annual Conference – President's Reception\n	–\n	\n		Quantity	\n	\n					\n	Increase ticket quantity for 2026 Annual Conference – President's Reception\n	+\n		\n		Quantity:\n	0\n		Total:\n					$\n					0.00\n	Get Tickets\n	\n	\n\n	\n	\n\n	\n	\n\n			\n\n			\n		Chattanooga Marriott Downtown			\n	\n\n2 Carter St\n		\n		Chattanooga\,\n	TN\n	37402\n	United States\n\n\n	+ Google Map \n\n					\n			(423) 756-0002
URL:https://tndha.com/event/2026-annual-conference/
LOCATION:Chattanooga Marriott Downtown\, 2 Carter St\, Chattanooga\, TN\, 37402\, United States
CATEGORIES:Annual Conference
ATTACH;FMTTYPE=image/png:https://tndha.com/wp-content/uploads/2026/01/Bloom.png
END:VEVENT
END:VCALENDAR